BEGIN:VCALENDAR
VERSION:2.0
PRODID:-//Grand Foyer - ECPv5.8.0//NONSGML v1.0//EN
CALSCALE:GREGORIAN
METHOD:PUBLISH
X-WR-CALNAME:Grand Foyer
X-ORIGINAL-URL:https://grandfoyer.gr
X-WR-CALDESC:Events for Grand Foyer
BEGIN:VTIMEZONE
TZID:UTC
BEGIN:STANDARD
TZOFFSETFROM:+0000
TZOFFSETTO:+0000
TZNAME:UTC
DTSTART:20210101T000000
END:STANDARD
END:VTIMEZONE
BEGIN:VEVENT
DTSTART;TZID=UTC:20210905T100000
DTEND;TZID=UTC:20210905T130000
DTSTAMP:20260424T102415
CREATED:20210729T111700Z
LAST-MODIFIED:20210729T111700Z
UID:2714-1630836000-1630846800@grandfoyer.gr
SUMMARY:Σεμινάριο Combi Manicure & Dual Forms
DESCRIPTION:Master Class Seminar \nΘεματολογία Σεμιναρίου:\nCombi manicure\nDual forms system σε σχήματα τετράγωνο\,αμύγδαλο\,cofin/μπαλαρίνα και ρώσικο αμύγδαλο.\nTεχνική χωρίς λιμάρισμα\nΚατά τη διάρκεια του σεμιναρίου θα διδαχτείτε διάφορα εφέ καθώς γαλλικό και babyboomer. \nInternational Educator: Ιορδανίδου Χριστίνα\nΗ Χριστίνα Ιορδανίδου κατάγεται από την Αθήνα και τα τελευταία είκοσι χρόνια κατοικεί και δραστηριοποιείται επαγγελματικά στο Ηράκλειο της Κρήτης. Έχει ολοκληρώσει τις σπουδές της και τη μετεκπαίδευσή της στην αισθητική άκρων και ασχολείται επαγγελματικά με το χώρο από το 2004 έχοντας δημιουργήσει δική της σχολή και το επιτυχημένο brand LadyCi τα τελευταία τρία χρόνια.\nΈχει παρακολουθήσει και έχει καταρτιστεί στην Ελλάδα και στο εξωτερικό δίπλα σε καταξιωμένους εκπαιδευτές και παράλληλα έχει συνεργαστεί με τις κορυφαίες εταιρίες επαγγελματικών προϊόντων.\nΜε πολλές συμμετοχές και διακρίσεις σε ευρωπαϊκό και διεθνές επίπεδο στον χώρο της αισθητικής άκρων όπως την κατάκτηση τριων (3) Master\, 2 International και 1 Judge Certificate\, τα τελευταία επτά έτη διδάσκει και μεταλαμπαδεύει τις γνώσεις και την εμπειρία της με εξαιρετικά αποτελέσματα στους μαθητές της. \nΗμερομηνία διεξαγωγής: 5 Σεπτεμβρίου 2021\nΏρα έναρξης σεμιναρίου 10.00 π.μ. \nΔώρο: το ψαλίδι και η φρέζα!\nΌλα τα αναλώσιμα / υλικά παρέχονται δωρεάν από τη σχολή για τη διεξαγωγή του σεμιναρίου. \nΚόστος σεμιναρίου: 100 ευρώ*.\n*Early Bird: 20% έκπτωση για εγγραφή μέχρι 20/08/2021
URL:https://grandfoyer.gr/event/%cf%83%ce%b5%ce%bc%ce%b9%ce%bd%ce%ac%cf%81%ce%b9%ce%bf-combi-manicure-dual-forms/
ATTACH;FMTTYPE=image/jpeg:https://grandfoyer.gr/wp-content/uploads/2021/07/seminar-combi-event-photo-1-final.jpg
END:VEVENT
BEGIN:VEVENT
DTSTART;TZID=UTC:20210919T190000
DTEND;TZID=UTC:20210919T200000
DTSTAMP:20260424T102415
CREATED:20210914T081234Z
LAST-MODIFIED:20210914T082802Z
UID:3206-1632078000-1632081600@grandfoyer.gr
SUMMARY:Σπούδασε προπονητική με τους κορυφαίους
DESCRIPTION:Δελτίο Τύπου 10/09/2021 \nΟ Τομέας Αθλητισμού του ΙΕΚ Grand Foyer στο πλαίσιο της παρουσίασης των νέων μελών – προπονητών της ειδικότητας «Προπονητική» διοργανώνει Δωρεάν Webinar με θέμα: \n“Σπούδασε Προπονητική με τους Κορυφαίους” \nΤο σεμινάριο θα διεξαχθεί μέσω της πλατφόρμας Ζοοm και θα μεταδοθεί live από το Facebook στις 19 Σεπτεμβρίου 2021 και ημέρα Κυριακή με ώρα έναρξης στις 19:00 μ.μ. και θα υπάρχει η δυνατότητα ερωτήσεων από το κοινό στους ομιλητές του Webinar. \nΣτο Σεμινάριο θα συμμετέχουν ως Ομιλητές οι: \nΝίκος Χατζής – Προπονητής Καλαθοσφαίρισης (Μπάσκετ) \nΒασίλειος Σέγγος – Προπονητής Στίβου και Ποδοσφαίρου \nΔημήτρης Αριστοτέλους – Προπονητής Καλαθοσφαίρισης (Μπάσκετ) \nΠαρουσιάζει και συντονίζει η δημοσιογράφος Βίκη Κάραλη \nΔηλώστε συμμετοχή εδώ \nή καλέστε στο τηλέφωνο 2106910012
URL:https://grandfoyer.gr/event/seminar-training/
ATTACH;FMTTYPE=image/jpeg:https://grandfoyer.gr/wp-content/uploads/2021/09/WEBINAR_PROPO.jpg
END:VEVENT
BEGIN:VEVENT
DTSTART;TZID=UTC:20211006T190000
DTEND;TZID=UTC:20211006T200000
DTSTAMP:20260424T102415
CREATED:20211004T105914Z
LAST-MODIFIED:20211004T110555Z
UID:3332-1633546800-1633550400@grandfoyer.gr
SUMMARY:Free Webinar – Live Cooking
DESCRIPTION:Τετάρτη 6/10/2021 18:00 μ.μ. \nΕισηγήτρια: Chef Ελένη Κουμαντάνου \nΘέμα: Η Τέχνη του Ψαριού \nΤο σεμινάριο απευθύνεται σε όσους ενδιαφέρονται να ασχοληθούν επαγγελματικά με την τέχνη της μαγειρικής. Κατά τη διάρκεια του σεμιναρίου θα μάθετε tips και μυστικά για τη σωστή επιλογή των ψαριών\, καθώς και τη συντήρηση και δημιουργικές μοντέρνες συνταγές με βάση το ψάρι. Θα μάθετε να φιλετάρετε σωστά\, πως θα αξιοποιήσουμε όλα τα μέρη του ψαριού και πως θα δημιουργήσουμε ένα gourmet πιάτο (food styling). \nΜε την Ολοκλήρωση του Webinar ο συμμετέχων αποκτά:\nBεβαίωση σεμιναρίου από ΚΔΒΜ Επιπέδου 2 \nΤρόπος εκτέλεσης και συνταγές \nΔυνατότητα εγγραφής με επιδότηση διδάκτρων 40% στην ειδικότητα της μαγειρικής τέχνης \nΠληροφορίες – Εγγραφές :2106910012 \nΔήλωσε συμμετοχή εδώ…
URL:https://grandfoyer.gr/event/free-webinar-cooking/
ATTACH;FMTTYPE=image/jpeg:https://grandfoyer.gr/wp-content/uploads/2021/09/κουμαντανου-σεφ-2.jpg
END:VEVENT
END:VCALENDAR